BEGIN:VCALENDAR
VERSION:2.0
PRODID:-//Joe Palmer - ECPv6.15.20//NONSGML v1.0//EN
CALSCALE:GREGORIAN
METHOD:PUBLISH
X-WR-CALNAME:Joe Palmer
X-ORIGINAL-URL:https://joepalmerauthor.com
X-WR-CALDESC:Events for Joe Palmer
REFRESH-INTERVAL;VALUE=DURATION:PT1H
X-Robots-Tag:noindex
X-PUBLISHED-TTL:PT1H
BEGIN:VTIMEZONE
TZID:UTC
BEGIN:STANDARD
TZOFFSETFROM:+0000
TZOFFSETTO:+0000
TZNAME:UTC
DTSTART:20240101T000000
END:STANDARD
END:VTIMEZONE
BEGIN:VEVENT
DTSTART;TZID=UTC:20250610T190000
DTEND;TZID=UTC:20250610T200000
DTSTAMP:20260422T122656
CREATED:20250428T213555Z
LAST-MODIFIED:20250428T213555Z
UID:643-1749582000-1749585600@joepalmerauthor.com
SUMMARY:Susie L. McMahon's Virtual Book Club Interview
DESCRIPTION:Susie will be interviewing me interviewing me in a virtual discussion about my debut novel\, A Mariner’s Tale\, for her nearly 800-member book club. After the interview\, Susie will put it on YouTube.
URL:https://joepalmerauthor.com/event/susie-l-mcmahons-virtual-book-club-interview/
LOCATION:FL
END:VEVENT
END:VCALENDAR