BEGIN:VCALENDAR
VERSION:2.0
PRODID:-//Joe Palmer - ECPv6.15.20//NONSGML v1.0//EN
CALSCALE:GREGORIAN
METHOD:PUBLISH
X-ORIGINAL-URL:https://joepalmerauthor.com
X-WR-CALDESC:Events for Joe Palmer
REFRESH-INTERVAL;VALUE=DURATION:PT1H
X-Robots-Tag:noindex
X-PUBLISHED-TTL:PT1H
BEGIN:VTIMEZONE
TZID:UTC
BEGIN:STANDARD
TZOFFSETFROM:+0000
TZOFFSETTO:+0000
TZNAME:UTC
DTSTART:20210101T000000
END:STANDARD
END:VTIMEZONE
BEGIN:VEVENT
DTSTART;TZID=UTC:20220226T133000
DTEND;TZID=UTC:20220226T150000
DTSTAMP:20260424T112529
CREATED:20220224T220313Z
LAST-MODIFIED:20220224T220313Z
UID:487-1645882200-1645887600@joepalmerauthor.com
SUMMARY:Meet & Greet/Book Signing
DESCRIPTION:After or before doing your shopping\, stop by the coffee area at the front of the store for a meet and greet with the author\, and buy a signed copy of his book\, A Mariner’s Tale
URL:https://joepalmerauthor.com/event/meet-greet-book-signing/
LOCATION:FL
END:VEVENT
END:VCALENDAR