BEGIN:VCALENDAR
VERSION:2.0
PRODID:-//Joe Palmer - ECPv6.15.20//NONSGML v1.0//EN
CALSCALE:GREGORIAN
METHOD:PUBLISH
X-WR-CALNAME:Joe Palmer
X-ORIGINAL-URL:https://joepalmerauthor.com
X-WR-CALDESC:Events for Joe Palmer
REFRESH-INTERVAL;VALUE=DURATION:PT1H
X-Robots-Tag:noindex
X-PUBLISHED-TTL:PT1H
BEGIN:VTIMEZONE
TZID:UTC
BEGIN:STANDARD
TZOFFSETFROM:+0000
TZOFFSETTO:+0000
TZNAME:UTC
DTSTART:20200101T000000
END:STANDARD
END:VTIMEZONE
BEGIN:VTIMEZONE
TZID:Pacific/Norfolk
BEGIN:STANDARD
TZOFFSETFROM:+1200
TZOFFSETTO:+1100
TZNAME:+11
DTSTART:20200404T150000
END:STANDARD
BEGIN:DAYLIGHT
TZOFFSETFROM:+1100
TZOFFSETTO:+1200
TZNAME:+12
DTSTART:20201003T150000
END:DAYLIGHT
BEGIN:STANDARD
TZOFFSETFROM:+1200
TZOFFSETTO:+1100
TZNAME:+11
DTSTART:20210403T150000
END:STANDARD
BEGIN:DAYLIGHT
TZOFFSETFROM:+1100
TZOFFSETTO:+1200
TZNAME:+12
DTSTART:20211002T150000
END:DAYLIGHT
BEGIN:STANDARD
TZOFFSETFROM:+1200
TZOFFSETTO:+1100
TZNAME:+11
DTSTART:20220402T150000
END:STANDARD
BEGIN:DAYLIGHT
TZOFFSETFROM:+1100
TZOFFSETTO:+1200
TZNAME:+12
DTSTART:20221001T150000
END:DAYLIGHT
END:VTIMEZONE
BEGIN:VEVENT
DTSTART;TZID=UTC:20210501T100000
DTEND;TZID=UTC:20210501T140000
DTSTAMP:20260425T014317
CREATED:20210430T003224Z
LAST-MODIFIED:20210430T160431Z
UID:316-1619863200-1619877600@joepalmerauthor.com
SUMMARY:Joe Palmer at San Marco Books and More
DESCRIPTION:
URL:https://joepalmerauthor.com/event/joe-palmer-at-san-marco-books-and-more/
LOCATION:San Marco Books and More\, 1971 San Marco Blvd\, Jacksonville\, FL\, 32207\, United States
CATEGORIES:Live Book Signing
ORGANIZER;CN="San Marco Books and More":MAILTO:Novel@SanMarcoBooksandMore.com
END:VEVENT
BEGIN:VEVENT
DTSTART;TZID=UTC:20210506T180000
DTEND;TZID=UTC:20210506T200000
DTSTAMP:20260425T014317
CREATED:20210415T184524Z
LAST-MODIFIED:20210430T160314Z
UID:305-1620324000-1620331200@joepalmerauthor.com
SUMMARY:A Library Book Talk: Fernandina Beach Branch Library
DESCRIPTION:Joe will be in conversation with professor Chris Twiggs from Florida State College at the library in Fernandina Beach – don’t miss this engaging chat!
URL:https://joepalmerauthor.com/event/a-library-book-talk-fernandina-beach-branch-library/
LOCATION:FL
CATEGORIES:Library Talk,Live Book Signing
ATTACH;FMTTYPE=image/jpeg:https://joepalmerauthor.com/wp-content/uploads/2021/04/FernandinaBeach1.jpg
END:VEVENT
BEGIN:VEVENT
DTSTART;TZID=Pacific/Norfolk:20210508T110000
DTEND;TZID=Pacific/Norfolk:20210508T130000
DTSTAMP:20260425T014317
CREATED:20210311T185030Z
LAST-MODIFIED:20210506T173221Z
UID:289-1620471600-1620478800@joepalmerauthor.com
SUMMARY:Booksigning at Nevermore Books in Beaufort\, SC!
DESCRIPTION:Join Joe as he spends some time chatting with readers and signing books at the beautiful ALL NEW Nevermore Books location on Port Republic Street in Beaufort\, South Carolina on May 8th\, the day before Mother’s Day!
URL:https://joepalmerauthor.com/event/booksigning-at-nevermore-books-in-beaufort-sc-2/
LOCATION:Nevermore Books\, 910 Port Republic Street\, Beaufort\, SC\, 29902\, United States
CATEGORIES:Live Book Signing
ATTACH;FMTTYPE=image/png:https://joepalmerauthor.com/wp-content/uploads/2021/03/Nevermore.png
END:VEVENT
BEGIN:VEVENT
DTSTART;TZID=UTC:20210521T150000
DTEND;TZID=UTC:20210521T170000
DTSTAMP:20260425T014317
CREATED:20210518T003201Z
LAST-MODIFIED:20210521T012321Z
UID:325-1621609200-1621616400@joepalmerauthor.com
SUMMARY:Book Signing at Elizabeth Pointe Oceanfront!
DESCRIPTION:Joe Palmer will be on hand to sign A Mariner’s Tale at the beautiful Elizabeth Pointe Oceanfront Bed & Breakfast\, in celebration of the annual Concours d’Elegance. Joe will be meeting guests at the lodge\, doing readings and signings and selling books. \n\nhttps://elizabethpointeameliaisland.com/
URL:https://joepalmerauthor.com/event/elizabeth-pointe/
LOCATION:Elziabeth Point B&B\, 98 S Fletcher Ave\, Fernandina Beach\, FL\, 32034\, United States
CATEGORIES:Live Book Signing
ATTACH;FMTTYPE=image/png:https://joepalmerauthor.com/wp-content/uploads/2021/05/Elizabeth-Pointe.png
END:VEVENT
BEGIN:VEVENT
DTSTART;TZID=UTC:20210526T200000
DTEND;TZID=UTC:20210526T210000
DTSTAMP:20260425T014317
CREATED:20210204T032434Z
LAST-MODIFIED:20210204T032434Z
UID:268-1622059200-1622062800@joepalmerauthor.com
SUMMARY:Joe Palmer to Be Featured on Second Line Show
DESCRIPTION:Meet Joe Palmer and enjoy some great DOG STORIES when Nola Nash’s Second Line Show dedicates the entire show to stories of our canine friends! Wednesday\, May 26 at 8 pm (they’re always on Wednesdays at 8 pm) and the topic is Dogs In Stories. \nJoin the show LIVE at https://www.facebook.com/groups/2380946371969311 or on YouTube at https://www.youtube.com/channel/UCmeOGgIywMlWpUpfdpS0vQw
URL:https://joepalmerauthor.com/event/joe-palmer-to-be-featured-on-second-line-show/
LOCATION:FL
CATEGORIES:Virtual Author Event
ATTACH;FMTTYPE=image/png:https://joepalmerauthor.com/wp-content/uploads/2021/02/the-second-line-show-thumbnail.png
END:VEVENT
BEGIN:VEVENT
DTSTART;TZID=UTC:20210528T150000
DTEND;TZID=UTC:20210528T150000
DTSTAMP:20260425T014317
CREATED:20210527T180946Z
LAST-MODIFIED:20210527T180946Z
UID:331-1622214000-1622214000@joepalmerauthor.com
SUMMARY:Elizabeth Pointe Lodge
DESCRIPTION:I’ll be at Elizabeth Point Lodge on Friday\, May 28 from 3 pm until talking about A Mariner’s Tale\, meeting and greeting guests\, doing readings and book sales and signings in celebration of the kickoff for Memorial Day Weekend.https://elizabethpointeameliaisland.com/
URL:https://joepalmerauthor.com/event/elizabeth-pointe-lodge/
LOCATION:FL
END:VEVENT
END:VCALENDAR