BEGIN:VCALENDAR
VERSION:2.0
PRODID:-//Joe Palmer - ECPv6.15.20//NONSGML v1.0//EN
CALSCALE:GREGORIAN
METHOD:PUBLISH
X-WR-CALNAME:Joe Palmer
X-ORIGINAL-URL:https://joepalmerauthor.com
X-WR-CALDESC:Events for Joe Palmer
REFRESH-INTERVAL;VALUE=DURATION:PT1H
X-Robots-Tag:noindex
X-PUBLISHED-TTL:PT1H
BEGIN:VTIMEZONE
TZID:UTC
BEGIN:STANDARD
TZOFFSETFROM:+0000
TZOFFSETTO:+0000
TZNAME:UTC
DTSTART:20190101T000000
END:STANDARD
END:VTIMEZONE
BEGIN:VEVENT
DTSTART;TZID=UTC:20201107T120000
DTEND;TZID=UTC:20201107T140000
DTSTAMP:20260423T203838
CREATED:20201022T212721Z
LAST-MODIFIED:20201022T212721Z
UID:231-1604750400-1604757600@joepalmerauthor.com
SUMMARY:Booksigning at Nevermore Books in Beaufort\, SC
DESCRIPTION:Join Joe as he spends some time chatting with readers and signing books at the beautiful “Raven on Craven” Nevermore Books in Beaufort\, South Carolina on November 7th during the Pat Conroy Literary Festival! \n 
URL:https://joepalmerauthor.com/event/booksigning-at-nevermore-books-in-beaufort-sc/
LOCATION:Nevermore Books\, 910 Port Republic Street\, Beaufort\, SC\, 29902\, United States
CATEGORIES:Live Book Signing
ATTACH;FMTTYPE=image/png:https://joepalmerauthor.com/wp-content/uploads/2020/10/Joe-at-Nevermore-Books.png
END:VEVENT
BEGIN:VEVENT
DTSTART;TZID=UTC:20201025T140000
DTEND;TZID=UTC:20201025T160000
DTSTAMP:20260423T203838
CREATED:20201022T144007Z
LAST-MODIFIED:20201022T144007Z
UID:221-1603634400-1603641600@joepalmerauthor.com
SUMMARY:Story and Song with AMP Theatre: Live Reading and Launch Party
DESCRIPTION:Join Joe Palmer and professional actors in a reading and launch party celebration of A Mariner’s Tale! \nIn partnership with Story & Song Bookstore Bistro\, Amelia Musical Playhouse will host the official launch of local author and AMP cast member Joe Palmer’s debut novel\, A MARINER’S TALE. The event will feature reading of select passages of dialogue by the main characters in the novel by AMP cast members. \nChad Miller\, as Jack Merkel\, a quiet and lonely old sailor who owns a boatyard and marina\, Joseph Woodlief\, as Doug Eleazer\, a troubled youth whose petty crime against Merkel sets the stage for the story\, John Drew\, as Judge J. Harlan Kicklighter\, who holds young Doug’s life in his hands\, Eliza Alys Young\, as Margie Waller\, an attractive\, wealthy and fiercely independent yacht owner\, Carlos Chavez-Tafur\, as Sheriff Hal Patterson\, who has a heart of gold behind his gold badge and Ginger Lindberg as Emma O’Toole\, an elderly Irish woman with a story of her own to tell. Joe will provide the narration. \nAfter the readings\, those attending the event are encouraged to ask Joe and the cast questions about the novel and to make comments\, as well. Following that will be book sales by Story & Song at the event\, and signings by the author. Anyone wishing to attend should bring lounge chairs or other comfortable seating and any refreshments desired. In keeping with Covid-19 public health guidelines\, we ask that you commit to appropriate social distancing during the event and please\, wear a mask when interacting in person with Joe or the cast members. \nThis event is free and open to the public but Joe requests that those who attend make donations to AMP in the amount of whatever you feel comfortable with at the event. \nIf you are unable to attend but would like a copy of the book\, it can be purchased at Story & Song or online.
URL:https://joepalmerauthor.com/event/story-and-song-with-amp-theatre-live-reading-and-launch-party/
LOCATION:Amelia Musical Playhouse\, 1955 Island Walkway\, Fernandina Beach\, State\, 32034\, United States
CATEGORIES:Live Book Signing
ATTACH;FMTTYPE=image/png:https://joepalmerauthor.com/wp-content/uploads/2020/10/Joe-at-story-and-song.png
END:VEVENT
END:VCALENDAR