BEGIN:VCALENDAR
VERSION:2.0
PRODID:-//Joe Palmer - ECPv6.15.20//NONSGML v1.0//EN
CALSCALE:GREGORIAN
METHOD:PUBLISH
X-WR-CALNAME:Joe Palmer
X-ORIGINAL-URL:https://joepalmerauthor.com
X-WR-CALDESC:Events for Joe Palmer
REFRESH-INTERVAL;VALUE=DURATION:PT1H
X-Robots-Tag:noindex
X-PUBLISHED-TTL:PT1H
BEGIN:VTIMEZONE
TZID:UTC
BEGIN:STANDARD
TZOFFSETFROM:+0000
TZOFFSETTO:+0000
TZNAME:UTC
DTSTART:20210101T000000
END:STANDARD
END:VTIMEZONE
BEGIN:VEVENT
DTSTART;TZID=UTC:20220226T133000
DTEND;TZID=UTC:20220226T150000
DTSTAMP:20260425T120523
CREATED:20220224T220313Z
LAST-MODIFIED:20220224T220313Z
UID:487-1645882200-1645887600@joepalmerauthor.com
SUMMARY:Meet & Greet/Book Signing
DESCRIPTION:After or before doing your shopping\, stop by the coffee area at the front of the store for a meet and greet with the author\, and buy a signed copy of his book\, A Mariner’s Tale
URL:https://joepalmerauthor.com/event/meet-greet-book-signing/
LOCATION:South Carolina
END:VEVENT
BEGIN:VEVENT
DTSTART;VALUE=DATE:20220430
DTEND;VALUE=DATE:20220501
DTSTAMP:20260425T120523
CREATED:20220425T170319Z
LAST-MODIFIED:20220425T170711Z
UID:512-1651276800-1651363199@joepalmerauthor.com
SUMMARY:National Independent Bookstore Day
DESCRIPTION:I’ll be celebrating the day at Main Street Reads\, Summerville\, SC with other authors this Saturday. Come see me if you’re in the area
URL:https://joepalmerauthor.com/event/national-independent-bookstore-day/
LOCATION:South Carolina
END:VEVENT
BEGIN:VEVENT
DTSTART;TZID=UTC:20220514T100000
DTEND;TZID=UTC:20220514T190000
DTSTAMP:20260425T120523
CREATED:20220128T155612Z
LAST-MODIFIED:20220128T155612Z
UID:453-1652522400-1652554800@joepalmerauthor.com
SUMMARY:A Mariner's Tale at Pinecones & Pages Literary Festival!
DESCRIPTION:Pinecones & Pages is a literary festival in Boone\, North Carolina where the books come to life as the characters appear and interact with each author and audience. \nIt all takes place on Saturday\, May 14th\, 2022 and I’m thrilled to announce that A Mariner’s Tale will be included in an amazing lineup that includes Jeremy Jones\, Robert Gwaltney and more! \n 
URL:https://joepalmerauthor.com/event/a-mariners-tale-at-pinecones-pages-literary-festival/
LOCATION:South Carolina
CATEGORIES:Live Book Signing
ATTACH;FMTTYPE=image/png:https://joepalmerauthor.com/wp-content/uploads/2022/01/FBCover1-1536x865-1.png
END:VEVENT
BEGIN:VEVENT
DTSTART;TZID=UTC:20221125T100000
DTEND;TZID=UTC:20221125T120000
DTSTAMP:20260425T120523
CREATED:20221123T181109Z
LAST-MODIFIED:20221123T181109Z
UID:566-1669370400-1669377600@joepalmerauthor.com
SUMMARY:Black Friday at San Marco Bookstore in Jacksonville\, FL
DESCRIPTION:I’ll be at San Marco Bookstore in Jacksonville on Black Friday\, November 25 from 10 am – 12 pm signing copies of A Mariner’s Tale\, which was recently optioned for a motion picture. If you’re in the area\, stop in and see me and buy a copy. Books make great Christmas gift\, too.
URL:https://joepalmerauthor.com/event/black-friday-at-san-marco-bookstore-in-jacksonville-fl/
LOCATION:San Marco Books and More\, 1971 San Marco Blvd\, Jacksonville\, FL\, 32207\, United States
ORGANIZER;CN="San Marco Books and More":MAILTO:Novel@SanMarcoBooksandMore.com
END:VEVENT
BEGIN:VEVENT
DTSTART;TZID=UTC:20230912T180000
DTEND;TZID=UTC:20230912T190000
DTSTAMP:20260425T120523
CREATED:20230808T155206Z
LAST-MODIFIED:20230808T155206Z
UID:608-1694541600-1694545200@joepalmerauthor.com
SUMMARY:Library Talk
DESCRIPTION:Please join me for an author talk at the Yulee Library. We’ll be talking about my novel\, A Mariner’s Tale\, the movie option on it\, the writing process and a bit about the genre of Southern Fiction.
URL:https://joepalmerauthor.com/event/library-talk/
LOCATION:Yulee Public Library\, 76346 William Burgess Blvd\, Yulee\, FL\, 32097\, United States
END:VEVENT
BEGIN:VEVENT
DTSTART;TZID=UTC:20230912T180000
DTEND;TZID=UTC:20230912T190000
DTSTAMP:20260425T120523
CREATED:20230808T155912Z
LAST-MODIFIED:20230808T155912Z
UID:611-1694541600-1694545200@joepalmerauthor.com
SUMMARY:Amelia Island History Museum
DESCRIPTION:Please join me for an author and book talk at this historic site. It’ll be lots of fun.
URL:https://joepalmerauthor.com/event/amelia-island-history-museum/
LOCATION:South Carolina
END:VEVENT
BEGIN:VEVENT
DTSTART;TZID=UTC:20250610T190000
DTEND;TZID=UTC:20250610T200000
DTSTAMP:20260425T120523
CREATED:20250428T213555Z
LAST-MODIFIED:20250428T213555Z
UID:643-1749582000-1749585600@joepalmerauthor.com
SUMMARY:Susie L. McMahon's Virtual Book Club Interview
DESCRIPTION:Susie will be interviewing me interviewing me in a virtual discussion about my debut novel\, A Mariner’s Tale\, for her nearly 800-member book club. After the interview\, Susie will put it on YouTube.
URL:https://joepalmerauthor.com/event/susie-l-mcmahons-virtual-book-club-interview/
LOCATION:South Carolina
END:VEVENT
BEGIN:VEVENT
DTSTART;TZID=UTC:20250718T110000
DTEND;TZID=UTC:20250718T120000
DTSTAMP:20260425T120523
CREATED:20250428T214223Z
LAST-MODIFIED:20250428T214816Z
UID:646-1752836400-1752840000@joepalmerauthor.com
SUMMARY:Yulee Book Club Meeting
DESCRIPTION:I will be joining members of the Yulee Book Club on Friday\, July 18\, for a lively discussion about my novel\, A Mariner’s Tale. This event will take place in the library at the Yulee branch of the Nassau County Public Library on State Road 200.
URL:https://joepalmerauthor.com/event/yulee-book-club-meeting/
LOCATION:Nassau County Public Library\, Yulee branch
END:VEVENT
BEGIN:VEVENT
DTSTART;TZID=UTC:20251022T173000
DTEND;TZID=UTC:20251022T190000
DTSTAMP:20260425T120523
CREATED:20250916T200653Z
LAST-MODIFIED:20250916T200653Z
UID:657-1761154200-1761159600@joepalmerauthor.com
SUMMARY:Clewiston Book Club and Library Event
DESCRIPTION:
URL:https://joepalmerauthor.com/event/clewiston-book-club-and-library-event/
LOCATION:Clewison Public Library\, 120 W Osceola Ave\, Clewiston\, FL\, 33440\, United States
END:VEVENT
END:VCALENDAR