BEGIN:VCALENDAR
VERSION:2.0
PRODID:-//Joe Palmer - ECPv6.15.20//NONSGML v1.0//EN
CALSCALE:GREGORIAN
METHOD:PUBLISH
X-WR-CALNAME:Joe Palmer
X-ORIGINAL-URL:https://joepalmerauthor.com
X-WR-CALDESC:Events for Joe Palmer
REFRESH-INTERVAL;VALUE=DURATION:PT1H
X-Robots-Tag:noindex
X-PUBLISHED-TTL:PT1H
BEGIN:VTIMEZONE
TZID:UTC
BEGIN:STANDARD
TZOFFSETFROM:+0000
TZOFFSETTO:+0000
TZNAME:UTC
DTSTART:20200101T000000
END:STANDARD
END:VTIMEZONE
BEGIN:VEVENT
DTSTART;TZID=UTC:20210424T180000
DTEND;TZID=UTC:20210424T190000
DTSTAMP:20260424T110523
CREATED:20210415T154231Z
LAST-MODIFIED:20210415T154231Z
UID:301-1619287200-1619290800@joepalmerauthor.com
SUMMARY:Read Between the Wines Bookclub
DESCRIPTION:Joe Palmer will be doing an author discussion about A Mariner’s Tale with Jacksonville’s Read Between the Wines book club! Visit https://www.meetup.com/meetup-group-ryUkfGJS/events/277270732 to learn more or join the club.
URL:https://joepalmerauthor.com/event/read-between-the-wines-bookclub/
CATEGORIES:Book Club,Virtual Author Event
ATTACH;FMTTYPE=image/png:https://joepalmerauthor.com/wp-content/uploads/2021/04/book-club.png
END:VEVENT
END:VCALENDAR