BEGIN:VCALENDAR
VERSION:2.0
PRODID:-//Joe Palmer - ECPv6.15.20//NONSGML v1.0//EN
CALSCALE:GREGORIAN
METHOD:PUBLISH
X-WR-CALNAME:Joe Palmer
X-ORIGINAL-URL:https://joepalmerauthor.com
X-WR-CALDESC:Events for Joe Palmer
REFRESH-INTERVAL;VALUE=DURATION:PT1H
X-Robots-Tag:noindex
X-PUBLISHED-TTL:PT1H
BEGIN:VTIMEZONE
TZID:UTC
BEGIN:STANDARD
TZOFFSETFROM:+0000
TZOFFSETTO:+0000
TZNAME:UTC
DTSTART:20200101T000000
END:STANDARD
END:VTIMEZONE
BEGIN:VEVENT
DTSTART;TZID=UTC:20210729T180000
DTEND;TZID=UTC:20210729T180000
DTSTAMP:20260424T223814
CREATED:20210527T181837Z
LAST-MODIFIED:20210527T181846Z
UID:337-1627581600-1627581600@joepalmerauthor.com
SUMMARY:Waycross-Ware County Memorial Library Book Talk
DESCRIPTION:I’ll be at the Waycross-Ware County Memorial Library\, 401 Lee Avenue\, Waycross\, GA\, Thursday\, July 29 at 6 pm for a book talk\, readings\, book sales and signings. Mark this one on your calendars\, Waycross residents and friends!https://okrls.org/ \n  \n \n 
URL:https://joepalmerauthor.com/event/waycross-ware-county-memorial-library-book-talk/
LOCATION:FL
CATEGORIES:Library Talk,Live Book Signing
END:VEVENT
END:VCALENDAR