BEGIN:VCALENDAR
VERSION:2.0
PRODID:-//Joe Palmer - ECPv6.15.20//NONSGML v1.0//EN
CALSCALE:GREGORIAN
METHOD:PUBLISH
X-WR-CALNAME:Joe Palmer
X-ORIGINAL-URL:https://joepalmerauthor.com
X-WR-CALDESC:Events for Joe Palmer
REFRESH-INTERVAL;VALUE=DURATION:PT1H
X-Robots-Tag:noindex
X-PUBLISHED-TTL:PT1H
BEGIN:VTIMEZONE
TZID:UTC
BEGIN:STANDARD
TZOFFSETFROM:+0000
TZOFFSETTO:+0000
TZNAME:UTC
DTSTART:20200101T000000
END:STANDARD
END:VTIMEZONE
BEGIN:VEVENT
DTSTART;TZID=UTC:20210701T113000
DTEND;TZID=UTC:20210701T130000
DTSTAMP:20260425T002050
CREATED:20210428T050748Z
LAST-MODIFIED:20210428T050748Z
UID:308-1625139000-1625144400@joepalmerauthor.com
SUMMARY:Oyster Bay Yacht Club Luncheon
DESCRIPTION:Author Joe Palmer will speak about southern literature and A Mariner’s Tale during this special lunheon at the Oyster Bay Yacht Club in Fernandina Beach\, FL. Join the fun!
URL:https://joepalmerauthor.com/event/oyster-bay-yacht-club-luncheon/
LOCATION:Oyster Bay Yacht Club\, 96732 Bay View Dr\, Fernandina Beach\, FL\, 32034\, United States
CATEGORIES:Book Club,Live Book Signing
ATTACH;FMTTYPE=image/jpeg:https://joepalmerauthor.com/wp-content/uploads/2021/04/BC5DCE82-18C1-4F53-BE6F-B5E4BD789DDC-Copy.jpg
ORGANIZER;CN="":MAILTO:mtarp@optonline.net
END:VEVENT
END:VCALENDAR