BEGIN:VCALENDAR
VERSION:2.0
PRODID:-//Joe Palmer - ECPv6.15.20//NONSGML v1.0//EN
CALSCALE:GREGORIAN
METHOD:PUBLISH
X-WR-CALNAME:Joe Palmer
X-ORIGINAL-URL:https://joepalmerauthor.com
X-WR-CALDESC:Events for Joe Palmer
REFRESH-INTERVAL;VALUE=DURATION:PT1H
X-Robots-Tag:noindex
X-PUBLISHED-TTL:PT1H
BEGIN:VTIMEZONE
TZID:UTC
BEGIN:STANDARD
TZOFFSETFROM:+0000
TZOFFSETTO:+0000
TZNAME:UTC
DTSTART:20190101T000000
END:STANDARD
END:VTIMEZONE
BEGIN:VEVENT
DTSTART;TZID=UTC:20201205T120000
DTEND;TZID=UTC:20201205T160000
DTSTAMP:20260425T103014
CREATED:20201205T003910Z
LAST-MODIFIED:20201205T005843Z
UID:249-1607169600-1607184000@joepalmerauthor.com
SUMMARY:The Book Loft: Signing and Select Readings
DESCRIPTION:Join the author again for another afternoon of signings and selected readings from his debut novel\, A Mariner’s Tale. Give the gift of a book to your loved one or friend this Holiday Season! Make it A Mariner’s Tale! \n \n 
URL:https://joepalmerauthor.com/event/the-book-loft-signing-and-select-readings/
LOCATION:The Book Loft\, 214 Centre Street\, Fernandina Beach\, FL\, 32034\, United States
END:VEVENT
END:VCALENDAR