BEGIN:VCALENDAR
VERSION:2.0
PRODID:-//Joe Palmer - ECPv6.15.20//NONSGML v1.0//EN
CALSCALE:GREGORIAN
METHOD:PUBLISH
X-ORIGINAL-URL:https://joepalmerauthor.com
X-WR-CALDESC:Events for Joe Palmer
REFRESH-INTERVAL;VALUE=DURATION:PT1H
X-Robots-Tag:noindex
X-PUBLISHED-TTL:PT1H
BEGIN:VTIMEZONE
TZID:UTC
BEGIN:STANDARD
TZOFFSETFROM:+0000
TZOFFSETTO:+0000
TZNAME:UTC
DTSTART:20190101T000000
END:STANDARD
END:VTIMEZONE
BEGIN:VEVENT
DTSTART;TZID=UTC:20201108T120000
DTEND;TZID=UTC:20201108T140000
DTSTAMP:20260425T115515
CREATED:20201022T144440Z
LAST-MODIFIED:20201022T144440Z
UID:226-1604836800-1604844000@joepalmerauthor.com
SUMMARY:Joe Palmer Makes the Rounds in SC - Main Street Reads\, Summerville
DESCRIPTION:Following the event at Nevermore Books in Beaufort and Joe’s appearance at the Pat Conroy Literary Festival\, Joe will wind his way up to Summerville for a Sunday signing at Main Street Reads in Summerville!
URL:https://joepalmerauthor.com/event/joe-palmer-makes-the-rounds-in-sc-main-street-reads-summerville/
LOCATION:FL
CATEGORIES:Live Book Signing
ATTACH;FMTTYPE=image/png:https://joepalmerauthor.com/wp-content/uploads/2020/10/Joe-at-Main-Street-Reads.png
END:VEVENT
END:VCALENDAR